BEGIN:VCALENDAR
VERSION:2.0
PRODID:-//The Lighthouse - ECPv6.15.20//NONSGML v1.0//EN
CALSCALE:GREGORIAN
METHOD:PUBLISH
X-WR-CALNAME:The Lighthouse
X-ORIGINAL-URL:https://thelighthousect.com
X-WR-CALDESC:Events for The Lighthouse
REFRESH-INTERVAL;VALUE=DURATION:PT1H
X-Robots-Tag:noindex
X-PUBLISHED-TTL:PT1H
BEGIN:VTIMEZONE
TZID:America/New_York
BEGIN:DAYLIGHT
TZOFFSETFROM:-0500
TZOFFSETTO:-0400
TZNAME:EDT
DTSTART:20250309T070000
END:DAYLIGHT
BEGIN:STANDARD
TZOFFSETFROM:-0400
TZOFFSETTO:-0500
TZNAME:EST
DTSTART:20251102T060000
END:STANDARD
BEGIN:DAYLIGHT
TZOFFSETFROM:-0500
TZOFFSETTO:-0400
TZNAME:EDT
DTSTART:20260308T070000
END:DAYLIGHT
BEGIN:STANDARD
TZOFFSETFROM:-0400
TZOFFSETTO:-0500
TZNAME:EST
DTSTART:20261101T060000
END:STANDARD
BEGIN:DAYLIGHT
TZOFFSETFROM:-0500
TZOFFSETTO:-0400
TZNAME:EDT
DTSTART:20270314T070000
END:DAYLIGHT
BEGIN:STANDARD
TZOFFSETFROM:-0400
TZOFFSETTO:-0500
TZNAME:EST
DTSTART:20271107T060000
END:STANDARD
END:VTIMEZONE
BEGIN:VEVENT
DTSTART;TZID=America/New_York:20260208T170000
DTEND;TZID=America/New_York:20260208T200000
DTSTAMP:20260423T145328
CREATED:20260129T210146Z
LAST-MODIFIED:20260129T210146Z
UID:4552-1770570000-1770580800@thelighthousect.com
SUMMARY:🏈 SUPER BOWL PARTY at The Lighthouse Recovery! 🏈
DESCRIPTION:🏈 SUPER BOWL PARTY at The Lighthouse Recovery! 🏈 \nJoin us for an evening of food\, fun\, fellowship\, and football as we watch the big game together in community! \nFebruary 8th | 5:00 PM | Men’s Residence\, 910 Smith Ridge Road \n \n  \nThis is a great opportunity to connect\, enjoy great food\, and celebrate the Super Bowl in a supportive\, recovery environment. \nRegister Here!
URL:https://thelighthousect.com/event/super-bowl-party/
LOCATION:Men’s Residence\, 910 Smith Ridge Road\, New Canaan\, CT\, United States
END:VEVENT
BEGIN:VEVENT
DTSTART;TZID=America/New_York:20260211T180000
DTEND;TZID=America/New_York:20260211T200000
DTSTAMP:20260423T145328
CREATED:20260202T201146Z
LAST-MODIFIED:20260202T201146Z
UID:4556-1770832800-1770840000@thelighthousect.com
SUMMARY:Join Us for a Galentine’s Celebration at The Lighthouse!
DESCRIPTION:💗 Join Us for a Galentine’s Celebration at The Lighthouse! 💗 \nCelebrate friendship\, connection\, and community at our Galentine’s Event! This is a special time for women in recovery to come together for encouragement\, laughter\, and support. \n📅 Date: February 11th\, 2026🕒 Time: 6:00 PM📍 Location: Women’s Residence \nThis event is all about building meaningful connections and uplifting one another — because friendship matters. 💕 \nClick to register.
URL:https://thelighthousect.com/event/join-us-for-a-galentines-celebration-at-the-lighthouse/
END:VEVENT
BEGIN:VEVENT
DTSTART;TZID=America/New_York:20260228T120000
DTEND;TZID=America/New_York:20260228T170000
DTSTAMP:20260423T145328
CREATED:20260220T213330Z
LAST-MODIFIED:20260220T213330Z
UID:4591-1772280000-1772298000@thelighthousect.com
SUMMARY:Make A Vision Board
DESCRIPTION:Make a Vision Board!\nSaturday\, February 28th at 12:00PM \nWomen’s Residence – Open to female residents & R365 clients. \nRSVP required here. \n 
URL:https://thelighthousect.com/event/make-a-vision-board/
ATTACH;FMTTYPE=image/jpeg:https://thelighthousect.com/wp-content/uploads/2026/02/Vision-Board.jpg
END:VEVENT
END:VCALENDAR